BEGIN:VCALENDAR
VERSION:2.0
PRODID:-//Greenacre Baptist Church - ECPv4.5.1//NONSGML v1.0//EN
CALSCALE:GREGORIAN
METHOD:PUBLISH
X-WR-CALNAME:Greenacre Baptist Church
X-ORIGINAL-URL:http://greenacrebaptist.org.au
X-WR-CALDESC:Events for Greenacre Baptist Church
BEGIN:VEVENT
DTSTART;TZID=Australia/Sydney:20140918T193000
DTEND;TZID=Australia/Sydney:20140918T193000
DTSTAMP:20190221T213657
CREATED:20140826T115514Z
LAST-MODIFIED:20140826T115532Z
UID:202-1411068600-1411068600@greenacrebaptist.org.au
SUMMARY:GBCCS Presents Annie Jr
DESCRIPTION:
URL:http://greenacrebaptist.org.au/event/annie-jr180914/
LOCATION:38-40 Shellcote Road\, Greenacre
ATTACH;FMTTYPE=image/jpeg:http://greenacrebaptist.org.au/wp-content/uploads/2014/08/AUGAnnie.jpg
END:VEVENT
END:VCALENDAR