BEGIN:VCALENDAR
VERSION:2.0
PRODID:-//Greenacre Baptist Church - ECPv4.5.1//NONSGML v1.0//EN
CALSCALE:GREGORIAN
METHOD:PUBLISH
X-WR-CALNAME:Greenacre Baptist Church
X-ORIGINAL-URL:http://greenacrebaptist.org.au
X-WR-CALDESC:Events for Greenacre Baptist Church
BEGIN:VEVENT
DTSTART;VALUE=DATE:20140817
DTEND;VALUE=DATE:20140817
DTSTAMP:20190221T174641
CREATED:20140803T064330Z
LAST-MODIFIED:20140803T064330Z
UID:183-1408233600-1408319999@greenacrebaptist.org.au
SUMMARY:Hymnalong
DESCRIPTION:
URL:http://greenacrebaptist.org.au/event/hymnalong0814/
LOCATION:38-40 Shellcote Road\, Greenacre
ATTACH;FMTTYPE=image/jpeg:http://greenacrebaptist.org.au/wp-content/uploads/2014/07/hymnalong.jpg
END:VEVENT
END:VCALENDAR