BEGIN:VCALENDAR
VERSION:2.0
PRODID:-//Greenacre Baptist Church - ECPv4.5.1//NONSGML v1.0//EN
CALSCALE:GREGORIAN
METHOD:PUBLISH
X-WR-CALNAME:Greenacre Baptist Church
X-ORIGINAL-URL:http://greenacrebaptist.org.au
X-WR-CALDESC:Events for Greenacre Baptist Church
BEGIN:VEVENT
DTSTART;TZID=Australia/Sydney:20140726T183000
DTEND;TZID=Australia/Sydney:20140726T183000
DTSTAMP:20190220T085624
CREATED:20140715T133144Z
LAST-MODIFIED:20140715T140056Z
UID:55-1406399400-1406399400@greenacrebaptist.org.au
SUMMARY:MASH - Games and dessert night
DESCRIPTION:
URL:http://greenacrebaptist.org.au/event/mash0714/
LOCATION:38-40 Shellcote Road\, Greenacre
ATTACH;FMTTYPE=image/jpeg:http://greenacrebaptist.org.au/wp-content/uploads/2014/07/MASHJuly.jpg
END:VEVENT
END:VCALENDAR