BEGIN:VCALENDAR
VERSION:2.0
PRODID:-//Greenacre Baptist Church - ECPv4.5.1//NONSGML v1.0//EN
CALSCALE:GREGORIAN
METHOD:PUBLISH
X-WR-CALNAME:Greenacre Baptist Church
X-ORIGINAL-URL:http://greenacrebaptist.org.au
X-WR-CALDESC:Events for Greenacre Baptist Church
BEGIN:VEVENT
DTSTART;VALUE=DATE:20140913
DTEND;VALUE=DATE:20140913
DTSTAMP:20190222T000333
CREATED:20140826T113832Z
LAST-MODIFIED:20140826T113832Z
UID:197-1410566400-1410652799@greenacrebaptist.org.au
SUMMARY:Movie Lover's Club
DESCRIPTION:
URL:http://greenacrebaptist.org.au/event/movie-club0914/
ATTACH;FMTTYPE=image/jpeg:http://greenacrebaptist.org.au/wp-content/uploads/2014/08/SEPmovie.jpg
END:VEVENT
END:VCALENDAR