BEGIN:VCALENDAR
VERSION:2.0
PRODID:-//Greenacre Baptist Church - ECPv4.5.1//NONSGML v1.0//EN
CALSCALE:GREGORIAN
METHOD:PUBLISH
X-WR-CALNAME:Greenacre Baptist Church
X-ORIGINAL-URL:http://greenacrebaptist.org.au
X-WR-CALDESC:Events for Greenacre Baptist Church
BEGIN:VEVENT
DTSTART;VALUE=DATE:20140831
DTEND;VALUE=DATE:20140831
DTSTAMP:20190220T115518
CREATED:20140803T064934Z
LAST-MODIFIED:20140803T065008Z
UID:186-1409443200-1409529599@greenacrebaptist.org.au
SUMMARY:Quarterly Business Meeting
DESCRIPTION:
URL:http://greenacrebaptist.org.au/event/quarterly-meeting0814/
LOCATION:38-40 Shellcote Road\, Greenacre
ATTACH;FMTTYPE=image/jpeg:http://greenacrebaptist.org.au/wp-content/uploads/2014/08/AUGBusinessMeeting.jpg
END:VEVENT
END:VCALENDAR